BEGIN:VCALENDAR
VERSION:2.0
PRODID:-//jEvents 2.0 for Joomla//EN
CALSCALE:GREGORIAN
METHOD:PUBLISH
BEGIN:VTIMEZONE
TZID:America/Toronto
BEGIN:STANDARD
DTSTART:20251102T010000
RDATE:20260308T030000
TZOFFSETFROM:-0400
TZOFFSETTO:-0500
TZNAME:America/Toronto EST
END:STANDARD
BEGIN:STANDARD
DTSTART:20261101T010000
RDATE:20270314T030000
TZOFFSETFROM:-0400
TZOFFSETTO:-0500
TZNAME:America/Toronto EST
END:STANDARD
BEGIN:STANDARD
DTSTART:20271107T010000
RDATE:20280312T030000
TZOFFSETFROM:-0400
TZOFFSETTO:-0500
TZNAME:America/Toronto EST
END:STANDARD
BEGIN:DAYLIGHT
DTSTART:20250429T140000
RDATE:20251102T010000
TZOFFSETFROM:-0500
TZOFFSETTO:-0400
TZNAME:America/Toronto EDT
END:DAYLIGHT
BEGIN:DAYLIGHT
DTSTART:20260308T030000
RDATE:20261101T010000
TZOFFSETFROM:-0500
TZOFFSETTO:-0400
TZNAME:America/Toronto EDT
END:DAYLIGHT
BEGIN:DAYLIGHT
DTSTART:20270314T030000
RDATE:20271107T010000
TZOFFSETFROM:-0500
TZOFFSETTO:-0400
TZNAME:America/Toronto EDT
END:DAYLIGHT
END:VTIMEZONE
BEGIN:VEVENT
UID:9794fa5245057d2f5886ea6bf88c9de1
CATEGORIES:Local
CREATED:20260423T121554
SUMMARY:Seniors Gentle Fit Exercise
LOCATION:North Crosby Community Centre
DESCRIPTION:<p style="line-height: 1.38; background-color: #ffffff;">This program spons
 ored by Senior Support Service is a free program offering for Seniors.&nbsp
 ;</p><p style="line-height: 1.38; background-color: #ffffff;">Curriculum is
  gold standard and is designed specifically for frailer seniors to increase
  strength, balance and flexibility.&nbsp;</p><p style="line-height: 1.38; b
 ackground-color: #ffffff;">Come on out and see for yourself. For more infor
 mation contact Diana. 613-273-9354</p>
CONTACT:Diana 613-273-9354
DTSTAMP:20260424T110550
DTSTART;TZID=America/Toronto:20260430T140000
DTEND;TZID=America/Toronto:20260430T150000
SEQUENCE:0
TRANSP:OPAQUE
END:VEVENT
END:VCALENDAR