BEGIN:VCALENDAR
VERSION:2.0
PRODID:-//jEvents 2.0 for Joomla//EN
CALSCALE:GREGORIAN
METHOD:PUBLISH
BEGIN:VTIMEZONE
TZID:America/Toronto
BEGIN:STANDARD
DTSTART:20251102T010000
RDATE:20260308T030000
TZOFFSETFROM:-0400
TZOFFSETTO:-0500
TZNAME:America/Toronto EST
END:STANDARD
BEGIN:STANDARD
DTSTART:20261101T010000
RDATE:20270314T030000
TZOFFSETFROM:-0400
TZOFFSETTO:-0500
TZNAME:America/Toronto EST
END:STANDARD
BEGIN:STANDARD
DTSTART:20271107T010000
RDATE:20280312T030000
TZOFFSETFROM:-0400
TZOFFSETTO:-0500
TZNAME:America/Toronto EST
END:STANDARD
BEGIN:DAYLIGHT
DTSTART:20250630T150000
RDATE:20251102T010000
TZOFFSETFROM:-0500
TZOFFSETTO:-0400
TZNAME:America/Toronto EDT
END:DAYLIGHT
BEGIN:DAYLIGHT
DTSTART:20260308T030000
RDATE:20261101T010000
TZOFFSETFROM:-0500
TZOFFSETTO:-0400
TZNAME:America/Toronto EDT
END:DAYLIGHT
BEGIN:DAYLIGHT
DTSTART:20270314T030000
RDATE:20271107T010000
TZOFFSETFROM:-0500
TZOFFSETTO:-0400
TZNAME:America/Toronto EDT
END:DAYLIGHT
END:VTIMEZONE
BEGIN:VEVENT
UID:e8e5370fee3aa6a7d9e84dca499c8692
CATEGORIES:Regional
CREATED:20260209T141517
SUMMARY:Newboro Canada Day Celebrations & Parade 
LOCATION:Newboro Community Hall
DESCRIPTION:Activities from 3:00 p.m. - 7:00 p.m.\n4:00 p.m. -  Hot Dogs, Burgers &amp;
  Drinks by donations until 6:00 p.m.\n6:00 p.m. -  Canada Day parade \n7:00
  p.m. -  Birthday Cake\n
X-ALT-DESC;FMTTYPE=text/html:<p>Activities from 3:00 p.m. - 7:00 p.m.</p><p>4:00 p.m. -&nbsp; Hot Dogs, 
 Burgers &amp; Drinks by donations until 6:00 p.m.<br />6:00 p.m. -&nbsp; Ca
 nada Day parade&nbsp;<br />7:00 p.m. -&nbsp; Birthday Cake</p>
DTSTAMP:20260425T215708
DTSTART;TZID=America/Toronto:20260701T150000
DTEND;TZID=America/Toronto:20260701T190000
SEQUENCE:0
TRANSP:OPAQUE
END:VEVENT
END:VCALENDAR