BEGIN:VCALENDAR
VERSION:2.0
PRODID:-//jEvents 2.0 for Joomla//EN
CALSCALE:GREGORIAN
METHOD:PUBLISH
BEGIN:VTIMEZONE
TZID:America/Toronto
BEGIN:STANDARD
DTSTART:20241103T010000
RDATE:20250309T030000
TZOFFSETFROM:-0400
TZOFFSETTO:-0500
TZNAME:America/Toronto EST
END:STANDARD
BEGIN:STANDARD
DTSTART:20251102T010000
RDATE:20260308T030000
TZOFFSETFROM:-0400
TZOFFSETTO:-0500
TZNAME:America/Toronto EST
END:STANDARD
BEGIN:STANDARD
DTSTART:20261101T010000
RDATE:20270314T030000
TZOFFSETFROM:-0400
TZOFFSETTO:-0500
TZNAME:America/Toronto EST
END:STANDARD
BEGIN:STANDARD
DTSTART:20271107T010000
RDATE:20280312T030000
TZOFFSETFROM:-0400
TZOFFSETTO:-0500
TZNAME:America/Toronto EST
END:STANDARD
BEGIN:DAYLIGHT
DTSTART:20240722T190000
RDATE:20241103T010000
TZOFFSETFROM:-0500
TZOFFSETTO:-0400
TZNAME:America/Toronto EDT
END:DAYLIGHT
BEGIN:DAYLIGHT
DTSTART:20250309T030000
RDATE:20251102T010000
TZOFFSETFROM:-0500
TZOFFSETTO:-0400
TZNAME:America/Toronto EDT
END:DAYLIGHT
BEGIN:DAYLIGHT
DTSTART:20260308T030000
RDATE:20261101T010000
TZOFFSETFROM:-0500
TZOFFSETTO:-0400
TZNAME:America/Toronto EDT
END:DAYLIGHT
BEGIN:DAYLIGHT
DTSTART:20270314T030000
RDATE:20271107T010000
TZOFFSETFROM:-0500
TZOFFSETTO:-0400
TZNAME:America/Toronto EDT
END:DAYLIGHT
END:VTIMEZONE
BEGIN:VEVENT
UID:6324d6958e80b69f9de521931c1a7619
CATEGORIES:Local
CREATED:20250514T191225
SUMMARY:BLAM #2
DESCRIPTION:<p>Please join us for a <strong>BLAM</strong>! meeting on Wednesday, July 2
 3, at 7:00 p.m. at the cottage of LBLA past president, Tom Heinze, 922 Kend
 ricks Lane (off Short Point Road, Lyndhurst).</p><p>BLAM stands for Beverle
 y Lakes Anglers Meeting. But you don’t have to be an angler to be concerned
  about the lakes (Upper and Lower Beverley) and their water quality.&nbsp; 
 This meeting will interest anyone who loves and enjoys either of the Beverl
 ey Lakes. So, stop by and find out what your friends and neighbours are doi
 ng to keep these lakes pristine and tranquil… a major concern for everyone!
 </p><p style="text-align: center;">922 Kendrick Lane</p><p style="text-alig
 n: center;">Lyndhurst,&nbsp;Ontario&nbsp;K0E 1N0</p>
CONTACT:Tom Heinze
DTSTAMP:20260421T130527
DTSTART;TZID=America/Toronto:20250723T190000
DTEND;TZID=America/Toronto:20250723T210000
SEQUENCE:0
TRANSP:OPAQUE
END:VEVENT
END:VCALENDAR