BEGIN:VCALENDAR
VERSION:2.0
PRODID:-//jEvents 2.0 for Joomla//EN
CALSCALE:GREGORIAN
METHOD:PUBLISH
BEGIN:VTIMEZONE
TZID:America/Toronto
BEGIN:STANDARD
DTSTART:20240215T183000
RDATE:20240310T030000
TZOFFSETFROM:-0400
TZOFFSETTO:-0500
TZNAME:America/Toronto EST
END:STANDARD
BEGIN:STANDARD
DTSTART:20241103T010000
RDATE:20250309T030000
TZOFFSETFROM:-0400
TZOFFSETTO:-0500
TZNAME:America/Toronto EST
END:STANDARD
BEGIN:STANDARD
DTSTART:20251102T010000
RDATE:20260308T030000
TZOFFSETFROM:-0400
TZOFFSETTO:-0500
TZNAME:America/Toronto EST
END:STANDARD
BEGIN:STANDARD
DTSTART:20261101T010000
RDATE:20270314T030000
TZOFFSETFROM:-0400
TZOFFSETTO:-0500
TZNAME:America/Toronto EST
END:STANDARD
BEGIN:STANDARD
DTSTART:20271107T010000
RDATE:20280312T030000
TZOFFSETFROM:-0400
TZOFFSETTO:-0500
TZNAME:America/Toronto EST
END:STANDARD
BEGIN:DAYLIGHT
DTSTART:20240310T030000
RDATE:20241103T010000
TZOFFSETFROM:-0500
TZOFFSETTO:-0400
TZNAME:America/Toronto EDT
END:DAYLIGHT
BEGIN:DAYLIGHT
DTSTART:20250309T030000
RDATE:20251102T010000
TZOFFSETFROM:-0500
TZOFFSETTO:-0400
TZNAME:America/Toronto EDT
END:DAYLIGHT
BEGIN:DAYLIGHT
DTSTART:20260308T030000
RDATE:20261101T010000
TZOFFSETFROM:-0500
TZOFFSETTO:-0400
TZNAME:America/Toronto EDT
END:DAYLIGHT
BEGIN:DAYLIGHT
DTSTART:20270314T030000
RDATE:20271107T010000
TZOFFSETFROM:-0500
TZOFFSETTO:-0400
TZNAME:America/Toronto EDT
END:DAYLIGHT
END:VTIMEZONE
BEGIN:VEVENT
UID:53751098759bcfc5651d792c1a116668
CATEGORIES:Local
CREATED:20250207T134958
SUMMARY:Skate the Lake's Famous Firework Display
LOCATION:Hanna Park 
DESCRIPTION:At Hanna Park (27 Water St., Portland) Fireworks displayed at dusk (Between
  6:30-7:00PM).  Bring some hotdogs or marshmallows for the bonfire! Registe
 r for the Skate the Lake Challenge and do a few laps on the Oval. \n
X-ALT-DESC;FMTTYPE=text/html:<p class="cvGsUA direction-ltr align-center para-style-body"><span class="O
 YPEnA font-feature-liga-off font-feature-clig-off font-feature-calt-off tex
 t-decoration-none text-strikethrough-none">At Hanna Park&nbsp;</span><span 
 class="OYPEnA font-feature-liga-off font-feature-clig-off font-feature-calt
 -off text-decoration-none text-strikethrough-none">(27 Water St., Portland)
 &nbsp;</span><span class="OYPEnA font-feature-liga-off font-feature-clig-of
 f font-feature-calt-off text-decoration-none text-strikethrough-none">Firew
 orks displayed at dusk&nbsp;</span><span class="OYPEnA font-feature-liga-of
 f font-feature-clig-off font-feature-calt-off text-decoration-none text-str
 ikethrough-none">(Between 6:30-7:00PM).&nbsp;&nbsp;</span><span class="OYPE
 nA font-feature-liga-off font-feature-clig-off font-feature-calt-off text-d
 ecoration-none text-strikethrough-none">Bring some hotdogs or marshmallows&
 nbsp;</span><span style="font-size: 1rem; letter-spacing: 0em; caret-color:
  auto;">for the bonfire! Register for the Skate the Lake Challenge and do a
  few laps on the Oval.&nbsp;</span></p>
DTSTAMP:20260421T114858
DTSTART;TZID=America/Toronto:20250215T183000
SEQUENCE:0
TRANSP:OPAQUE
END:VEVENT
END:VCALENDAR