BEGIN:VCALENDAR
VERSION:2.0
PRODID:-//jEvents 2.0 for Joomla//EN
CALSCALE:GREGORIAN
METHOD:PUBLISH
BEGIN:VTIMEZONE
TZID:America/Toronto
BEGIN:STANDARD
DTSTART:20231105T010000
RDATE:20240310T030000
TZOFFSETFROM:-0400
TZOFFSETTO:-0500
TZNAME:America/Toronto EST
END:STANDARD
BEGIN:STANDARD
DTSTART:20241103T010000
RDATE:20250309T030000
TZOFFSETFROM:-0400
TZOFFSETTO:-0500
TZNAME:America/Toronto EST
END:STANDARD
BEGIN:STANDARD
DTSTART:20251102T010000
RDATE:20260308T030000
TZOFFSETFROM:-0400
TZOFFSETTO:-0500
TZNAME:America/Toronto EST
END:STANDARD
BEGIN:STANDARD
DTSTART:20261101T010000
RDATE:20270314T030000
TZOFFSETFROM:-0400
TZOFFSETTO:-0500
TZNAME:America/Toronto EST
END:STANDARD
BEGIN:STANDARD
DTSTART:20271107T010000
RDATE:20280312T030000
TZOFFSETFROM:-0400
TZOFFSETTO:-0500
TZNAME:America/Toronto EST
END:STANDARD
BEGIN:DAYLIGHT
DTSTART:20230822T090000
RDATE:20231105T010000
TZOFFSETFROM:-0500
TZOFFSETTO:-0400
TZNAME:America/Toronto EDT
END:DAYLIGHT
BEGIN:DAYLIGHT
DTSTART:20240310T030000
RDATE:20241103T010000
TZOFFSETFROM:-0500
TZOFFSETTO:-0400
TZNAME:America/Toronto EDT
END:DAYLIGHT
BEGIN:DAYLIGHT
DTSTART:20250309T030000
RDATE:20251102T010000
TZOFFSETFROM:-0500
TZOFFSETTO:-0400
TZNAME:America/Toronto EDT
END:DAYLIGHT
BEGIN:DAYLIGHT
DTSTART:20260308T030000
RDATE:20261101T010000
TZOFFSETFROM:-0500
TZOFFSETTO:-0400
TZNAME:America/Toronto EDT
END:DAYLIGHT
BEGIN:DAYLIGHT
DTSTART:20270314T030000
RDATE:20271107T010000
TZOFFSETFROM:-0500
TZOFFSETTO:-0400
TZNAME:America/Toronto EDT
END:DAYLIGHT
END:VTIMEZONE
BEGIN:VEVENT
UID:7c1504f1985a26afc059becbb18b6816
CATEGORIES:Local
CREATED:20240822T143721
SUMMARY:Gentle Fit 
LOCATION:Portland Legion Hall
DESCRIPTION:Gentle Seniors chair exercise with help from equipment aids to support bala
 nce and motor skills. To register call Terri 613-272-3302 or email  (mailto
 :toward@crhc.on.ca.)RegularLabs.EmailProtector.unCloak("ep_bff14f35");Regul
 arLabs.EmailProtector.unCloak("ep_704a03c3", true);.\n
X-ALT-DESC;FMTTYPE=text/html:<p>Gentle Seniors chair exercise with help from equipment aids to support b
 alance and motor skills. To register call Terri 613-272-3302 or email <a hr
 ef="mailto:toward@crhc.on.ca."><!-- This email address is being protected f
 rom spambots. --><a href="https://www.rideaulakes.ca/javascript:/* This ema
 il address is being protected from spambots.*/"><span class="cloaked_email 
 ep_bff14f35"><span data-ep-b="c&#97;" data-ep-a="&#116;ow"><span data-ep-a=
 "&#97;r&#100;" data-ep-b="&#111;n&#46;"><span data-ep-b="hc&#46;" data-ep-a
 ="&#64;&#99;r"></span></span></span></span><script>RegularLabs.EmailProtect
 or.unCloak("ep_bff14f35");</script><span class="cloaked_email ep_704a03c3" 
 style="display:none;"><span data-ep-a="t&#111;w" data-ep-b="&#99;&#97;"><sp
 an data-ep-a="&#97;&#114;&#100;" data-ep-b="&#111;&#110;."><span data-ep-b=
 "&#104;c." data-ep-a="&#64;cr"></span></span></span></span></a><script>Regu
 larLabs.EmailProtector.unCloak("ep_704a03c3", true);</script>.</a></p>
DTSTAMP:20260420T070441
DTSTART;TZID=America/Toronto:20240822T090000
DTEND;TZID=America/Toronto:20240822T094500
SEQUENCE:0
TRANSP:OPAQUE
END:VEVENT
END:VCALENDAR