BEGIN:VCALENDAR
VERSION:2.0
PRODID:-//jEvents 2.0 for Joomla//EN
CALSCALE:GREGORIAN
METHOD:PUBLISH
BEGIN:VTIMEZONE
TZID:America/Toronto
BEGIN:STANDARD
DTSTART:20231105T010000
RDATE:20240310T030000
TZOFFSETFROM:-0400
TZOFFSETTO:-0500
TZNAME:America/Toronto EST
END:STANDARD
BEGIN:STANDARD
DTSTART:20241103T010000
RDATE:20250309T030000
TZOFFSETFROM:-0400
TZOFFSETTO:-0500
TZNAME:America/Toronto EST
END:STANDARD
BEGIN:STANDARD
DTSTART:20251102T010000
RDATE:20260308T030000
TZOFFSETFROM:-0400
TZOFFSETTO:-0500
TZNAME:America/Toronto EST
END:STANDARD
BEGIN:STANDARD
DTSTART:20261101T010000
RDATE:20270314T030000
TZOFFSETFROM:-0400
TZOFFSETTO:-0500
TZNAME:America/Toronto EST
END:STANDARD
BEGIN:STANDARD
DTSTART:20271107T010000
RDATE:20280312T030000
TZOFFSETFROM:-0400
TZOFFSETTO:-0500
TZNAME:America/Toronto EST
END:STANDARD
BEGIN:DAYLIGHT
DTSTART:20230618T180000
RDATE:20231105T010000
TZOFFSETFROM:-0500
TZOFFSETTO:-0400
TZNAME:America/Toronto EDT
END:DAYLIGHT
BEGIN:DAYLIGHT
DTSTART:20240310T030000
RDATE:20241103T010000
TZOFFSETFROM:-0500
TZOFFSETTO:-0400
TZNAME:America/Toronto EDT
END:DAYLIGHT
BEGIN:DAYLIGHT
DTSTART:20250309T030000
RDATE:20251102T010000
TZOFFSETFROM:-0500
TZOFFSETTO:-0400
TZNAME:America/Toronto EDT
END:DAYLIGHT
BEGIN:DAYLIGHT
DTSTART:20260308T030000
RDATE:20261101T010000
TZOFFSETFROM:-0500
TZOFFSETTO:-0400
TZNAME:America/Toronto EDT
END:DAYLIGHT
BEGIN:DAYLIGHT
DTSTART:20270314T030000
RDATE:20271107T010000
TZOFFSETFROM:-0500
TZOFFSETTO:-0400
TZNAME:America/Toronto EDT
END:DAYLIGHT
END:VTIMEZONE
BEGIN:VEVENT
UID:2aa9bfb80ef875f9e523579c12eccc2b
CATEGORIES:Regional
CREATED:20240425T143948
SUMMARY:Rideau Lakes Strategic Plan - Community Workshop
LOCATION:Elgin Lions Hall
DESCRIPTION:We are pleased to share that the Rideau Lakes Strategic Plan Community Work
 shop will take place on Tuesday, June 18 from 6 to 8:30 p.m. at the Elgin L
 ions Community Hall.\nAll are welcome. Pre-registration is required. Thank 
 you!\nFree Registration\nTo register, visit Eventbrite (https://www.eventbr
 ite.ca/e/rideau-lakes-strategic-plan-community-workshop-tickets-89117071459
 7)\n
X-ALT-DESC;FMTTYPE=text/html:<p>We are pleased to share that the Rideau Lakes Strategic Plan Community W
 orkshop will take place on Tuesday, June 18 from 6 to 8:30 p.m. at the Elgi
 n Lions Community Hall.</p><p>All are welcome. Pre-registration is required
 . Thank you!</p><p>Free Registration</p><p>To register, visit <a href="http
 s://www.eventbrite.ca/e/rideau-lakes-strategic-plan-community-workshop-tick
 ets-891170714597" target="_blank" rel="noopener">Eventbrite</a></p>
CONTACT:Erin Johnson \n1-800-928-2250 Ext. 223\nRegularLabs.EmailProtector.unCloak("ep_af77fcef"); (javascript:/* This email address is being protected from spambots.*/)RegularLabs.EmailProtector.unCloak("ep_7350c36e", true);
DTSTAMP:20260423T111305
DTSTART;TZID=America/Toronto:20240618T180000
DTEND;TZID=America/Toronto:20240618T203000
SEQUENCE:0
TRANSP:OPAQUE
END:VEVENT
END:VCALENDAR